BEGIN:VCALENDAR
VERSION:2.0
PRODID:-//eventon.com NONSGML v1.0//EN
CALSCALE:GREGORIAN
METHOD:PUBLISH
BEGIN:VEVENT
UID:69e9fde377fe2
DTSTAMP:20260423T110923Z
DTSTART:20180330
DTEND:20180331
LOCATION:ICC Eesti asukoht Tammsaare Ärikeskuses Krõõda torni II korrusel A.H. Tammsaare tee 47
SUMMARY:ICC Akadeemia sertifikaat ekspordis-impordis
DESCRIPTION:LAE ALLA PDF Koostöös ICC Akadeemia (asub Singapuris) ja meie
  asutajaliikme koolitusfirma EMI EWT-ga oleme väljatöötanud uue väliska
 ubanduskoolituse\,  milles on ühendatud parim rahvusvaheline oskusteave ja
  kaasaegne koolitusmetoodika ning mille läbijad saavad oma professionaalsu
 sele rahvusvaheliselt tunnustatud tõenduse. &nbsp; KOOLITUS KOOSNEB KAHEST
  OSAST Internetikoolitus\, &nbsp;mille raames läbitakse viiest e-osast ja 
 lõpphindamisest koosnev ICC[..]\nhttps://icc-estonia.ee/events/ekspordi-te
 hingukaasused-oppigem-teiste-vigadest-rahvusvaheline-ekspordi-impordisertif
 ikaat/
URL:https://icc-estonia.ee/events/ekspordi-tehingukaasused-oppigem-teiste-vigadest-rahvusvaheline-ekspordi-impordisertifikaat/
END:VEVENT
END:VCALENDAR