BEGIN:VCALENDAR
VERSION:2.0
PRODID:-//eventon.com NONSGML v1.0//EN
CALSCALE:GREGORIAN
METHOD:PUBLISH
BEGIN:VEVENT
UID:69e9e36daf6d8
DTSTAMP:20260423T091629Z
DTSTART:20180511T093000Z
DTEND:20180511T143000Z
LOCATION:ICC Eesti asukoht Tammsaare Ärikeskuses Krõõda torni II korrusel A.H. Tammsaare tee 47
SUMMARY:Vedu- ja ekspedeerimine. Kaasused kauba kättetoimetamisel
DESCRIPTION:See on neljas moodul väliskaubanduskaasuste&nbsp;seminar-töö
 tubade sarjast ning esimene auditooriumikoolitus neile\,  kes on asunud oma
 ndama ICC Akadeemia sertifikaati ekspordis-impordis. Kauba kättetoimetamin
 e on määrava tähtsusega tehingu õnnestumisel. Käsitletakse kolmnurgas 
 ostja – müüja – ekspedeerija toimuvat. See on valdkond\,  kus on tuge
 v potentsiaal osalistevaheliseks koostööks ja sellest tekkivaks sünergia
 ks. Samas on valdkonnal eeldused[..]\nhttps://icc-estonia.ee/events/vedu-ja
 -ekspedeerimine/
URL:https://icc-estonia.ee/events/vedu-ja-ekspedeerimine/
END:VEVENT
END:VCALENDAR