BEGIN:VCALENDAR
VERSION:2.0
PRODID:-//eventon.com NONSGML v1.0//EN
CALSCALE:GREGORIAN
METHOD:PUBLISH
BEGIN:VEVENT
UID:69e8e9da94e9f
DTSTAMP:20260422T153138Z
DTSTART:20180221T174500Z
DTEND:20180221T200000Z
LOCATION:Radisson Blu Sky Hotel Rävala puiestee 3\,  Tallinn
SUMMARY:Kella Kuue Klubis Rail Baltic Estonia endine juht Indrek Orav
DESCRIPTION:Selle aasta teise\,  veebruarikuu Kella Kuue Klubi külalisesin
 eja on endine Rail Baltic Estonia juht ja juhatuse liige Indrek Orav. Indre
 k on pikaajaline juht. Ta on töötanud lisaks omandatud advokaadi- ja dipl
 omaadikutsele juhatuste- ja nõukogude liikmena mitmetes tunnustatud ärior
 ganisatsioonides\,  nagu Viking Window\,  Eesti Raudtee\,  Radisson SAS jt.
  Indrek lahkus Rail Baltic[..]\nhttps://icc-estonia.ee/events/kella-kuue-kl
 ubis-rail-baltic-estonia-endine-juht-indrek-orav/
URL:https://icc-estonia.ee/events/kella-kuue-klubis-rail-baltic-estonia-endine-juht-indrek-orav/
END:VEVENT
END:VCALENDAR