BEGIN:VCALENDAR
VERSION:2.0
PRODID:-//eventon.com NONSGML v1.0//EN
CALSCALE:GREGORIAN
METHOD:PUBLISH
BEGIN:VEVENT
UID:69e8e9da210a7
DTSTAMP:20260422T153138Z
DTSTART:20180418T174500Z
DTEND:20180418T200000Z
LOCATION:Radisson Blu Sky Hotel Rävala puiestee 3\,  Tallinn
SUMMARY:Kella Kuue Klubis vähiravifondi "Kingitud elu" kaasasutaja Toivo Tänavsuu
DESCRIPTION:18. aprillil kell 17.45 toimub Radisson Blu Sky hotelli Bremerh
 aveni ruumis&nbsp;selle aasta neljas Kella Kuue Klubi\,  mille külalisesin
 ejaks on&nbsp;Vähiravifond “Kingitud elu”&nbsp;kaasasutaja ja juhataja
 &nbsp;Toivo Tänavsuu. Vähiravifond &#8220;Kingitud elu&#8221; on Eesti es
 imene eraalgatuslik vähiravi toetusfond\,  mis toetab annetustest koguneva
 te vahenditega nende vähipatsientide ravi\,  kelle ravikulusid ei kompense
 eri Eesti Haigekassa.&nbsp;Fond aitab rahastada hädavajalikku[..]\nhttps:/
 /icc-estonia.ee/events/kella-kuue-klubis-vahiravifondi-kingitud-elu-kaasasu
 taja-toivo-tanavsuu/
URL:https://icc-estonia.ee/events/kella-kuue-klubis-vahiravifondi-kingitud-elu-kaasasutaja-toivo-tanavsuu/
END:VEVENT
END:VCALENDAR