BEGIN:VCALENDAR
VERSION:2.0
PRODID:-//eventon.com NONSGML v1.0//EN
CALSCALE:GREGORIAN
METHOD:PUBLISH
BEGIN:VEVENT
UID:69e5b3c535842
DTSTAMP:20260420T050405Z
DTSTART:20201214T100000Z
DTEND:20201214T110000Z
LOCATION:
SUMMARY:Lühikoolitus Brexiti ja käibemaksu teemal
DESCRIPTION:Kavas on järjekordne ICC Eesti/EMTA ühisseminar. Teemaks Brex
 it ja käibemaks. Koolitajaks on EMTA maksude osakonna peaspetsialist Ain U
 lmre\,  kes räägib Brexitiga kaasnevatest muudatustest käibemaksureeglit
 es Koolituse sisu: Käibemaksuga maksustamine ja KMD täitmine kaubatehingu
 te puhul Ühendkuningriigi firmadega Ühendkuningriigis tasutud käibemaksu
  tagastamise taotlemine Põhja-Iirimaale kehtestatud erandid Käibemaksuga 
 maksustamine ja KMD täitmine Ühendkuningriigi firmadele[..]\nhttps://icc-
 estonia.ee/events/luhikoolitus-brexiti-ja-kaibemaksu-teemal/
URL:https://icc-estonia.ee/events/luhikoolitus-brexiti-ja-kaibemaksu-teemal/
END:VEVENT
END:VCALENDAR