BEGIN:VCALENDAR
VERSION:2.0
PRODID:-//eventon.com NONSGML v1.0//EN
CALSCALE:GREGORIAN
METHOD:PUBLISH
BEGIN:VEVENT
UID:69e8b61546e71
DTSTAMP:20260422T115045Z
DTSTART:20250424T083000Z
DTEND:20250424T163000Z
LOCATION:Tammsaare Ärikeskus\,  Krõõda torni I korrusel A. H. Tammsaare tee 47
SUMMARY:EMI EWT koolitus: Mõjus esinemine ilma PowerPointita
DESCRIPTION:Eesmärk: Tekitada inspiratsiooni ja oskusi oma sõnumite esita
 miseks eristuval ning mõjuval moel. Õppida praktiliste harjutuste tegemis
 ega erinevate auditooriumite tähelepanu ja poolehoiu võitmise tehnikaid. 
 Sihtrühm: Organisatsioonide ja valdkondade juhid\,  kes tahavad viia oma a
 valiku esinemise oskused kõrgtasemele. Õpitulemid: Koolituse läbinud on 
 võimelised pidama ettekandeid või kõnesid ilma toetavate tehniliste abiv
 ahenditeta. See[..]\nhttps://icc-estonia.ee/events/mojus-esinemine-ilma-pow
 erpointita-4/
URL:https://icc-estonia.ee/events/mojus-esinemine-ilma-powerpointita-4/
END:VEVENT
END:VCALENDAR