BEGIN:VCALENDAR
VERSION:2.0
PRODID:-//eventon.com NONSGML v1.0//EN
CALSCALE:GREGORIAN
METHOD:PUBLISH
BEGIN:VEVENT
UID:69ead488d8336
DTSTAMP:20260424T022512Z
DTSTART:20210422T100000Z
DTEND:20210422T100000Z
LOCATION:
SUMMARY:ICC Eesti hommikuklubi
DESCRIPTION:Koroonaviirus peatas muu hulgas ka meie populaarse Kella Kuue K
 lubi. Vastukaaluks avasime ICC Eesti hommikuklubi &#8211; tasuta veebikohtu
 miste sarja Zoomi keskkonnas. Igal kohtumistel on keskne teema ja esineja(d
 ).&nbsp;Mikrofon on kõigile avatud. Saame esitada küsimusi\,  jagada oma 
 õnnestumisi ja ka nõu küsida\,  kui vaja. Hommikuklubi kestvus on 30 min
 utit. Kui asjalikku[..]\nhttps://icc-estonia.ee/events/icc-eesti-hommikuklu
 bi-13/
URL:https://icc-estonia.ee/events/icc-eesti-hommikuklubi-13/
END:VEVENT
END:VCALENDAR