BEGIN:VCALENDAR
VERSION:2.0
PRODID:-//eventon.com NONSGML v1.0//EN
CALSCALE:GREGORIAN
METHOD:PUBLISH
BEGIN:VEVENT
UID:69e57d66bfc8b
DTSTAMP:20260420T011206Z
DTSTART:20220922
DTEND:20220923
LOCATION:
SUMMARY:Tarneahelajuhi arenguprogramm liikmesfirmalt PROLOG
DESCRIPTION:Tarneahelajuhi arenguprogramm Tarneahela akadeemia alustab jäl
 le septembris 2022\,  koosneb 8 moodulist kestvusega a’ 2 päeva (kokku 1
 6 õppepäeva) ja lõpeb mais 2023. Registreerimine toimub kuni kohtade tä
 itumiseni. Tarneahelajuhi arenguprogrammi on välja töötanud PROLOG &#821
 1; Eesti Tarneahelate Juhtimise Ühing. Koolitus viiakse läbi koostöös&n
 bsp;ICC Eesti liikmesfirmade&nbsp;PROLOGi ja EMI EWT-ga. SUUR TÄIENDUS! Ko
 ostöös[..]\nhttps://icc-estonia.ee/events/tarneahelajuhi-arenguprogramm-l
 iikmesfirmalt-prolog-3/
URL:https://icc-estonia.ee/events/tarneahelajuhi-arenguprogramm-liikmesfirmalt-prolog-3/
END:VEVENT
END:VCALENDAR