BEGIN:VCALENDAR
VERSION:2.0
PRODID:-//eventon.com NONSGML v1.0//EN
CALSCALE:GREGORIAN
METHOD:PUBLISH
BEGIN:VEVENT
UID:69ed238df0e63
DTSTAMP:20260425T202653Z
DTSTART:20220525
DTEND:20220526
LOCATION:Tammsaare Ärikeskus\,  Krõõda torni II korrusel A. H. Tammsaare tee 47
SUMMARY:EMI EWT koolitus: Oskuslik aja kasutamine - eduka töökorralduse võti
DESCRIPTION:&#8220;Meil on alati küllalt aega\,  kui me seda otstarbekalt 
 kasutame&#8221;&nbsp;J.W. von Goethe Koolitusele on oodatud töötajad\,  k
 ellel on soov arendada oskusi aja paremaks kasutamiseks oma eesmärkide saa
 vutamisel. Koolitus selleks\,  et õppida \,  kuidas aja organiseerimine ai
 tab saavutada paremaid tulemusi töödes ja tegevustes õppida aja planeeri
 mise erinevaid võimalusi õppida aja &#8211;[..]\nhttps://icc-estonia.ee/e
 vents/emi-ewt-koolitus-oskuslik-aja-kasutamine-eduka-tookorralduse-voti-2/
URL:https://icc-estonia.ee/events/emi-ewt-koolitus-oskuslik-aja-kasutamine-eduka-tookorralduse-voti-2/
END:VEVENT
END:VCALENDAR