BEGIN:VCALENDAR
VERSION:2.0
PRODID:-//eventon.com NONSGML v1.0//EN
CALSCALE:GREGORIAN
METHOD:PUBLISH
BEGIN:VEVENT
UID:69e9ea1152469
DTSTAMP:20260423T094449Z
DTSTART:20220519
DTEND:20220520
LOCATION:
SUMMARY:Kvaliteet liikmesfirmalt PROLOG
DESCRIPTION:Kvaliteet on Tarneahelajuhi arenguprogrammi kaheksas moodul. Sa
 mas on see iseseisev ja terviklik käsitlus\,  mida võib kuulata eraldi ko
 olitusena. Koolitus aitab osalejatel mõista tarneahela juhtimise olemust j
 a eripära ning selle vahetut seost ettevõtte strateegilise juhtimisega. S
 ihtrühm Koolitus on&nbsp;suunatud laiale sihtrühmale\,  mis hõlmab endas
  nii planeerijaid\,  ostjaid/hankijaid\,  logistikuid kui ka tootmisjuhte. 
 Teemad[..]\nhttps://icc-estonia.ee/events/kvaliteet-liikmesfirmalt-prolog/
URL:https://icc-estonia.ee/events/kvaliteet-liikmesfirmalt-prolog/
END:VEVENT
END:VCALENDAR