BEGIN:VCALENDAR
VERSION:2.0
PRODID:-//eventon.com NONSGML v1.0//EN
CALSCALE:GREGORIAN
METHOD:PUBLISH
BEGIN:VEVENT
UID:69e5e7624a4e3
DTSTAMP:20260420T084418Z
DTSTART:20230120
DTEND:20230121
LOCATION:
SUMMARY:ICC Akadeemia sertifikaat. Väliskaubanduse finantseerimine ja turvavahendid
DESCRIPTION:Rahvusvaheline veebikursus + kontaktkoolitus auditooriumis. Koo
 stöös ICC Akadeemia (asub Singapuris) ja EMI EWT-ga oleme algatanud seeri
 a koolitusi\,  milles on ühendatud parim rahvusvaheline oskusteave ja kaas
 aegne koolitusmetoodika. Käesoleva koolituse läbinud saavad lisaks omanda
 tud teadmistele välisarveldustest ka rahvusvaheliselt tunnustatud tõendus
 e + 1 EAP. KOOLITUSEL ON ÜHENDATUD ÜHEKS TERVIKUKS Internetikoolitus\,  m
 ille raames läbitakse&nbsp;[..]\nhttps://icc-estonia.ee/events/valiskauban
 duse-finantseerimine-ja-turvavahendid/
URL:https://icc-estonia.ee/events/valiskaubanduse-finantseerimine-ja-turvavahendid/
END:VEVENT
END:VCALENDAR