BEGIN:VCALENDAR
VERSION:2.0
PRODID:-//eventon.com NONSGML v1.0//EN
CALSCALE:GREGORIAN
METHOD:PUBLISH
BEGIN:VEVENT
UID:69e600e7edea1
DTSTAMP:20260420T103311Z
DTSTART:20220505T093000Z
DTEND:20220505T163000Z
LOCATION:Veebinar
SUMMARY:EMI EWT koolitus: MÃµjus turundus ilma esitluspresentatsioonita. Ivo Rull
DESCRIPTION:MÃµjus turundus ilma esitluspresentatsioonita EesmÃ¤rk: Jagada 
 vÃµimalusi oma sÃµnumite esitamiseks uudsel ja eristuval moel. Harjutada er
 inevate auditooriumite tÃ¤helepanu ja poolehoiu vÃµitmise tehnikaid. SihtrÃ
 ¼hm: Organisatsioonide ja valdkondade juhid\,  kes tahavad viia oma avaliku
  esinemise oskused keskmisest kÃµrgemale tasemele. KÃµik\,  kelle tÃ¶Ã¶ on 
 seotud suhtlemisega. Ã•pitulemid: Koolituse lÃ¤binud on vÃµimelised pidama 
 ettekandeid[..]\nhttps://icc-estonia.ee/events/mojus-turundus-ilma-esitlusp
 resentatsioonita-ivo-rull/
URL:https://icc-estonia.ee/events/mojus-turundus-ilma-esitluspresentatsioonita-ivo-rull/
END:VEVENT
END:VCALENDAR