BEGIN:VCALENDAR
VERSION:2.0
PRODID:-//eventon.com NONSGML v1.0//EN
CALSCALE:GREGORIAN
METHOD:PUBLISH
BEGIN:VEVENT
UID:69e8cfb5b2d67
DTSTAMP:20260422T134005Z
DTSTART:20220420T180000Z
DTEND:20220420T210000Z
LOCATION:
SUMMARY:ICC Eesti sigariklubi: Habanose sigari koolitus
DESCRIPTION:Sigarid on elustiil\,  mis ühendab inimesi\,  kes selle kultuu
 ri väärtustada oskavad. ICC Sigariklubis kohtuvad huvilised\,  kelle kirg
  on õppida selle kultuuri olemust\,  päritolu ja kombeid. Oodata on põne
 vaid uusi teadmisi\,  tutvusi ja intelligentseid arutelusid. Sigariklubi es
 imene kohtumine leiab aset 20. aprillil 2022 algusega kelll 18:00. Koguneme
  Happy Cigars Lounge ruumides[..]\nhttps://icc-estonia.ee/events/icc-eesti-
 sigariklubi-habanose-sigari-koolitus/
URL:https://icc-estonia.ee/events/icc-eesti-sigariklubi-habanose-sigari-koolitus/
END:VEVENT
END:VCALENDAR