BEGIN:VCALENDAR
VERSION:2.0
PRODID:-//eventon.com NONSGML v1.0//EN
CALSCALE:GREGORIAN
METHOD:PUBLISH
BEGIN:VEVENT
UID:69e5fed8ed853
DTSTAMP:20260420T102424Z
DTSTART:20221214T174500Z
DTEND:20221214T210000Z
LOCATION:
SUMMARY:Detsembrikuu õhtuklubi
DESCRIPTION:Selle aasta viimane õhtuklubi toimub peagi saabuvate pühade m
 eeleolus Ukraina Kreeka-Katoliku Kirikus. Plaanis oli jõulukuine õhtuklub
 i pidada Ukraina Kreeka Katoliku kirikus juba möödunud aastal\,  kuid kor
 oonapiirangutest tulenevalt olime sunnitud selle ära jätma. Saatuse tahte
 l täidame oma lubaduse sellel aastal. Aastal millal alanud traagilised sü
 ndmused Ukrainas annavad meie jõulukuu õhtuklubile hoopis[..]\nhttps://ic
 c-estonia.ee/events/detsembrikuu-ohtuklubi/
URL:https://icc-estonia.ee/events/detsembrikuu-ohtuklubi/
END:VEVENT
END:VCALENDAR