BEGIN:VCALENDAR
VERSION:2.0
PRODID:-//eventon.com NONSGML v1.0//EN
CALSCALE:GREGORIAN
METHOD:PUBLISH
BEGIN:VEVENT
UID:69ead6a04dcbb
DTSTAMP:20260424T023408Z
DTSTART:20260227T093000Z
DTEND:20260227T153000Z
LOCATION:ICC Eesti asukoht Tammsaare Ärikeskuses Krõõda torni II korrusel A.H. Tammsaare tee 47
SUMMARY:Ekspordi tehingukaasused ja ICC tüüplepingu oskuslik kasutamine
DESCRIPTION:Praktikas tuleb paraku ette\,  et eksporditehingus läheb teisi
 ti\,  kui tehingu poolel oli põhjust loota. Näiteks\,  müüja ei saa mak
 set õigel ajal\,  õiges summas või õiges vääringus või ostja jääbk
 i tarnet ootama.&nbsp; Kui midagi juhtub\,  vaadatakse lepingut. Kahjuks pa
 hatihti selgub\,  et leping lihtsalt vaikib\,  mingi oluline asi on jäänu
 d lepestamata. Kui[..]\nhttps://icc-estonia.ee/events/ekspordi-lepingukaasu
 sed-ja-icc-tuuplepingu-oskuslik-kasutamine-6/
URL:https://icc-estonia.ee/events/ekspordi-lepingukaasused-ja-icc-tuuplepingu-oskuslik-kasutamine-6/
END:VEVENT
END:VCALENDAR